BEGIN:VCALENDAR
VERSION:2.0
PRODID:-//Friendship Baptist Church - ECPv6.11.2//NONSGML v1.0//EN
CALSCALE:GREGORIAN
METHOD:PUBLISH
X-ORIGINAL-URL:https://friendshipbccs.com
X-WR-CALDESC:Events for Friendship Baptist Church
REFRESH-INTERVAL;VALUE=DURATION:PT1H
X-Robots-Tag:noindex
X-PUBLISHED-TTL:PT1H
BEGIN:VTIMEZONE
TZID:UTC
BEGIN:STANDARD
TZOFFSETFROM:+0000
TZOFFSETTO:+0000
TZNAME:UTC
DTSTART:20260101T000000
END:STANDARD
END:VTIMEZONE
BEGIN:VEVENT
DTSTART;TZID=UTC:20260426T153000
DTEND;TZID=UTC:20260426T170000
DTSTAMP:20260420T110831
CREATED:20260409T194918Z
LAST-MODIFIED:20260409T194918Z
UID:8137-1777217400-1777222800@friendshipbccs.com
SUMMARY:True Spirit Baptist Church "Family & Friends Annual Day"
DESCRIPTION:True Spirit Baptist Church invites all in celebrating “Family & Friends Annual Day” Sunday\, April 26th 3:30pm. Theme: “What’s Love got To Do With It!” (Proverbs 17:17) Special Guest Speaker Pastor Michael D. Henry\, II of Shiloh Baptist Church in Denver.
URL:https://friendshipbccs.com/event/true-spirit-baptist-church-family-friends-annual-day/
LOCATION:True Spirit Baptist Church\, 5120 Astrozon Blvd\, Colorado Springs\, CO\, 80916\, United States
ATTACH;FMTTYPE=image/png:https://friendshipbccs.com/wp-content/uploads/2026/04/True-Spirit-Baptist-Church-Logo.png
END:VEVENT
END:VCALENDAR