BEGIN:VCALENDAR
VERSION:2.0
PRODID:-//Friendship Baptist Church - ECPv6.11.2//NONSGML v1.0//EN
CALSCALE:GREGORIAN
METHOD:PUBLISH
X-WR-CALNAME:Friendship Baptist Church
X-ORIGINAL-URL:https://friendshipbccs.com
X-WR-CALDESC:Events for Friendship Baptist Church
REFRESH-INTERVAL;VALUE=DURATION:PT1H
X-Robots-Tag:noindex
X-PUBLISHED-TTL:PT1H
BEGIN:VTIMEZONE
TZID:UTC
BEGIN:STANDARD
TZOFFSETFROM:+0000
TZOFFSETTO:+0000
TZNAME:UTC
DTSTART:20260101T000000
END:STANDARD
END:VTIMEZONE
BEGIN:VEVENT
DTSTART;TZID=UTC:20260411T100000
DTEND;TZID=UTC:20260411T130000
DTSTAMP:20260420T123650
CREATED:20260313T195855Z
LAST-MODIFIED:20260313T195928Z
UID:8028-1775901600-1775912400@friendshipbccs.com
SUMMARY:Divine Spirit Baptist Church Spring Women's Gathering
DESCRIPTION:Divine Spirit Baptist Church Spring Women’s Gathering Saturday\, April 11\, 2026 10:00am-1:00pm Theme: Walking Boldly in Faith Joshua 1:9. Four Speakers. All ladies are welcome\, please come and bring a friend. Special time for prayer\, fellowship and encouragement
URL:https://friendshipbccs.com/event/divine-spirit-baptist-church-spring-womens-gathering/
LOCATION:Divine Spirit Baptist Church\, 2626 Verde Drive\, Colorado Springs\, CO\, 80910\, United States
ATTACH;FMTTYPE=image/png:https://friendshipbccs.com/wp-content/uploads/2026/03/Screenshot-2026-03-11-132030.png
END:VEVENT
END:VCALENDAR