BEGIN:VCALENDAR
VERSION:2.0
PRODID:-//Friendship Baptist Church - ECPv6.11.2//NONSGML v1.0//EN
CALSCALE:GREGORIAN
METHOD:PUBLISH
X-WR-CALNAME:Friendship Baptist Church
X-ORIGINAL-URL:http://friendshipbccs.com
X-WR-CALDESC:Events for Friendship Baptist Church
REFRESH-INTERVAL;VALUE=DURATION:PT1H
X-Robots-Tag:noindex
X-PUBLISHED-TTL:PT1H
BEGIN:VTIMEZONE
TZID:UTC
BEGIN:STANDARD
TZOFFSETFROM:+0000
TZOFFSETTO:+0000
TZNAME:UTC
DTSTART:20260101T000000
END:STANDARD
END:VTIMEZONE
BEGIN:VTIMEZONE
TZID:America/Denver
BEGIN:DAYLIGHT
TZOFFSETFROM:-0700
TZOFFSETTO:-0600
TZNAME:MDT
DTSTART:20260308T090000
END:DAYLIGHT
BEGIN:STANDARD
TZOFFSETFROM:-0600
TZOFFSETTO:-0700
TZNAME:MST
DTSTART:20261101T080000
END:STANDARD
END:VTIMEZONE
BEGIN:VEVENT
DTSTART;TZID=UTC:20260117T100000
DTEND;TZID=UTC:20260117T140000
DTSTAMP:20260420T154551
CREATED:20251231T205211Z
LAST-MODIFIED:20251231T205220Z
UID:7744-1768644000-1768658400@friendshipbccs.com
SUMMARY:FBC Youth & Young Adults CLOTHING GIVEAWAY
DESCRIPTION:The FBC Youth & Young Adults are hosting a clothing giveaway Saturday\, January 17\, 2026 10am to 2pm in the Lower Fellowship Hall. \nDonations are encouraged but not required. We ask that members of the congregation spread the word so that those who are in need have the opportunity to gain access to these items.
URL:http://friendshipbccs.com/event/fbc-youth-young-adults-clothing-giveaway/
LOCATION:Friendship Baptist Church\, 633 E. Dale Street\, Colorado Springs\, CO\, 80903\, United States
ATTACH;FMTTYPE=image/png:http://friendshipbccs.com/wp-content/uploads/2025/12/Screenshot-2025-12-30-135610.png
END:VEVENT
BEGIN:VEVENT
DTSTART;TZID=America/Denver:20260118T150000
DTEND;TZID=America/Denver:20260118T170000
DTSTAMP:20260420T154551
CREATED:20260115T221033Z
LAST-MODIFIED:20260115T221350Z
UID:7792-1768748400-1768755600@friendshipbccs.com
SUMMARY:Deacon Ordination Service - Paul Hill
DESCRIPTION:Deacon Ordination Service for Deacon-Elect Brother Paul Hill\, following Sunday\, January 18\, 2026 service at 3:00pm. Pastor Roland G. Williams \n  \n 
URL:http://friendshipbccs.com/event/deacon-ordination-service-paul-hill/
LOCATION:Friendship Baptist Church\, 633 E. Dale Street\, Colorado Springs\, CO\, 80903\, United States
ATTACH;FMTTYPE=image/png:http://friendshipbccs.com/wp-content/uploads/2026/01/Screenshot-2026-01-15-150840.png
END:VEVENT
END:VCALENDAR