BEGIN:VCALENDAR
VERSION:2.0
PRODID:-//Friendship Baptist Church - ECPv6.11.2//NONSGML v1.0//EN
CALSCALE:GREGORIAN
METHOD:PUBLISH
X-WR-CALNAME:Friendship Baptist Church
X-ORIGINAL-URL:http://friendshipbccs.com
X-WR-CALDESC:Events for Friendship Baptist Church
REFRESH-INTERVAL;VALUE=DURATION:PT1H
X-Robots-Tag:noindex
X-PUBLISHED-TTL:PT1H
BEGIN:VTIMEZONE
TZID:UTC
BEGIN:STANDARD
TZOFFSETFROM:+0000
TZOFFSETTO:+0000
TZNAME:UTC
DTSTART:20240101T000000
END:STANDARD
END:VTIMEZONE
BEGIN:VEVENT
DTSTART;TZID=UTC:20251116T153000
DTEND;TZID=UTC:20251116T180000
DTSTAMP:20260420T172823
CREATED:20251001T185443Z
LAST-MODIFIED:20251001T185443Z
UID:7411-1763307000-1763316000@friendshipbccs.com
SUMMARY:True Spirit Baptist Church Pastoral Anniversary
DESCRIPTION:True Spirit Baptist Church Pastor Anthony L. Grier 7th Pastoral Anniversary November 16\, 2025 3:30pm
URL:http://friendshipbccs.com/event/true-spirit-baptist-church-pastoral-anniversary/
LOCATION:True Spirit Baptist Church\, 5120 Astrozon Blvd\, Colorado Springs\, CO\, 80916\, United States
ATTACH;FMTTYPE=image/png:http://friendshipbccs.com/wp-content/uploads/2025/09/Screenshot-2025-09-25-133737.png
END:VEVENT
BEGIN:VEVENT
DTSTART;TZID=UTC:20251113T180000
DTEND;TZID=UTC:20251113T193000
DTSTAMP:20260420T172823
CREATED:20250925T202326Z
LAST-MODIFIED:20250925T202334Z
UID:7371-1763056800-1763062200@friendshipbccs.com
SUMMARY:FBC Budget Meeting
DESCRIPTION:2026 Budget Requests are in Mailboxes. Return by close of business Friday\, October 24\, 2025.  If you have no change from 2025 no need to submit request.  Budget Meeting Thursday\, November 13\, 2025 6:00pm.
URL:http://friendshipbccs.com/event/fbc-budget-meeting-2/
LOCATION:Friendship Baptist Church\, 633 E. Dale Street\, Colorado Springs\, CO\, 80903\, United States
ATTACH;FMTTYPE=image/png:http://friendshipbccs.com/wp-content/uploads/2025/09/Screenshot-2025-09-25-140155.png
ORGANIZER;CN="Raymond Jones":MAILTO:trustees@friendshipbccs.com
END:VEVENT
BEGIN:VEVENT
DTSTART;TZID=UTC:20251107T093000
DTEND;TZID=UTC:20251107T120000
DTSTAMP:20260420T172823
CREATED:20251023T165337Z
LAST-MODIFIED:20251023T165337Z
UID:7470-1762507800-1762516800@friendshipbccs.com
SUMMARY:Church Women United - World Community Day
DESCRIPTION:Church Women United\, Inc. Celebration 2025 World Community Day Ephesians 4:32. Friday\, November 7\, 2025 9:30 am. East United Methodist Church at 1505 E. Monument St. behind Memorial Hospital.
URL:http://friendshipbccs.com/event/church-women-united-world-community-day/
LOCATION:East United Methodist Church\, 1505 E. Monument Street\, Colorado Springs\, CO\, 80909\, United States
ATTACH;FMTTYPE=image/jpeg:http://friendshipbccs.com/wp-content/uploads/2025/10/Church-Women-United-Logo.jpg
END:VEVENT
BEGIN:VEVENT
DTSTART;TZID=UTC:20251026T150000
DTEND;TZID=UTC:20251026T180000
DTSTAMP:20260420T172823
CREATED:20250925T202222Z
LAST-MODIFIED:20251001T192655Z
UID:7378-1761490800-1761501600@friendshipbccs.com
SUMMARY:Perfect Peace Baptist Church 41st Church Anniversary
DESCRIPTION:Perfect Peace Baptist Church – 41st Church Anniversary Celebration Sunday\, October 26\, 2025 3:00 PM Guest Speaker: Pastor Albert E. Holland.
URL:http://friendshipbccs.com/event/perfect-peace-baptist-church-41st-church-anniversary/
LOCATION:Perfect Peace Baptist Church\, 832 S. Nevada Ave\, Colorado Springs\, CO\, 80903\, United States
ATTACH;FMTTYPE=image/png:http://friendshipbccs.com/wp-content/uploads/2025/09/Screenshot-2025-10-01-131251.png
END:VEVENT
BEGIN:VEVENT
DTSTART;TZID=UTC:20251025T160000
DTEND;TZID=UTC:20251025T200000
DTSTAMP:20260420T172823
CREATED:20250925T201430Z
LAST-MODIFIED:20251016T155508Z
UID:7375-1761408000-1761422400@friendshipbccs.com
SUMMARY:FBC OKTOBERFEST
DESCRIPTION:OKTOBERFEST Saturday\, October 25\, 2025 4:00pm–8:00pm hosted by FBC Youth\, there will be Trunk-or-Treat\, Chili Contest (tasting & vote on best)\, Cake Walk\, Games & Activities\, Prayer Patch & Fun!  FBC Youth asking for Candy Donations for this event\, donation boxes at church entrances.
URL:http://friendshipbccs.com/event/fbc-octoberfest/
LOCATION:Friendship Baptist Church\, 633 E. Dale Street\, Colorado Springs\, CO\, 80903\, United States
ATTACH;FMTTYPE=image/png:http://friendshipbccs.com/wp-content/uploads/2025/09/Screenshot-2025-10-01-124912.png
END:VEVENT
BEGIN:VEVENT
DTSTART;TZID=UTC:20251019T110000
DTEND;TZID=UTC:20251019T173000
DTSTAMP:20260420T172823
CREATED:20250821T193610Z
LAST-MODIFIED:20250925T193313Z
UID:7255-1760871600-1760895000@friendshipbccs.com
SUMMARY:Friendship Baptist Church 80th Anniversary
DESCRIPTION:Friendship Baptist Church will be celebrating our 80th Church Anniversary October 19th 2025.  We are inviting you to fellowship with us on the Momentous Occasion. Our Theme: “For 80 years\, a Church that Teaches and Preaches Restoration of the Soul: Jeremiah 31:25. Sub Theme: 80 years of God’s Faithfulness: Psalm 90:1-2. Our 80th Anniversary Guest speaker on October 19\, 2025 at 11:00 AM and 3:30 PM will be Pastor Kim Gladney of the Oak Grove Missionary Baptist Church\, Kansas City\, Missouri. Dinner following 11:00 a.m. service in lower fellowship hall.
URL:http://friendshipbccs.com/event/friendship-baptist-church-80th-anniversary/
LOCATION:Friendship Baptist Church\, 633 E. Dale Street\, Colorado Springs\, CO\, 80903\, United States
ATTACH;FMTTYPE=image/png:http://friendshipbccs.com/wp-content/uploads/2025/08/Screenshot-2025-08-21-133241.png
END:VEVENT
BEGIN:VEVENT
DTSTART;TZID=UTC:20251019T000000
DTEND;TZID=UTC:20251109T235959
DTSTAMP:20260420T172823
CREATED:20251023T165947Z
LAST-MODIFIED:20251023T165947Z
UID:7475-1760832000-1762732799@friendshipbccs.com
SUMMARY:Friendship Baptist Church Clothing Drive
DESCRIPTION:The FBC’s Young Adults are looking to make a difference in the community and give back to those in need. We are asking that you donate gently used or new clothing. Donations will be accepted from October 19th thru November 9th in the lower fellowship hall.
URL:http://friendshipbccs.com/event/friendship-baptist-church-clothing-drive/
LOCATION:Friendship Baptist Church\, 633 E. Dale Street\, Colorado Springs\, CO\, 80903\, United States
ATTACH;FMTTYPE=image/jpeg:http://friendshipbccs.com/wp-content/uploads/2025/10/clothing-donation.jpg
END:VEVENT
BEGIN:VEVENT
DTSTART;TZID=UTC:20251011T180000
DTEND;TZID=UTC:20251011T193000
DTSTAMP:20260420T172823
CREATED:20250911T185215Z
LAST-MODIFIED:20250911T190217Z
UID:7331-1760205600-1760211000@friendshipbccs.com
SUMMARY:80th Anniversary Musical Program
DESCRIPTION:On Saturday\, October 11th\, 2025 at 6:00 p.m. we will host a Pre-Anniversary Musical with uplifting praise and worship that promises to be a blessing to all who attend. Afterwards there will be light refreshments in the fellowship hall.
URL:http://friendshipbccs.com/event/80th-anniversary-musical-program/
LOCATION:Friendship Baptist Church\, 633 E. Dale Street\, Colorado Springs\, CO\, 80903\, United States
ATTACH;FMTTYPE=image/png:http://friendshipbccs.com/wp-content/uploads/2025/09/Screenshot-2025-09-11-125140.png
END:VEVENT
BEGIN:VEVENT
DTSTART;TZID=UTC:20251005T110000
DTEND;TZID=UTC:20251005T123000
DTSTAMP:20260420T172823
CREATED:20250911T184817Z
LAST-MODIFIED:20250925T193146Z
UID:7329-1759662000-1759667400@friendshipbccs.com
SUMMARY:80th Anniversary Kickoff Sunday Service
DESCRIPTION:80th Anniversary kickoff Sunday\, October 5\, 2025 11:00am Guest Speaker Pastor Sandy Ray Fields of Walnut Boulevard Missionary Baptist Church – Kansas City\, Kansas. Potluck Dinner following service in lower fellowship hall.
URL:http://friendshipbccs.com/event/80th-anniversary-kickoff-sunday-service/
LOCATION:Friendship Baptist Church\, 633 E. Dale Street\, Colorado Springs\, CO\, 80903\, United States
ATTACH;FMTTYPE=image/png:http://friendshipbccs.com/wp-content/uploads/2025/08/Screenshot-2025-08-21-133241.png
END:VEVENT
BEGIN:VEVENT
DTSTART;TZID=UTC:20250929T180000
DTEND;TZID=UTC:20251003T200000
DTSTAMP:20260420T172823
CREATED:20250925T194656Z
LAST-MODIFIED:20250925T195539Z
UID:7365-1759168800-1759521600@friendshipbccs.com
SUMMARY:True Spirit Baptist Church 2025 Community Revival
DESCRIPTION:True Spirit Baptist Church – 2025 Community Revival “Reviving the City Seeking Complete Restoration” Isaiah 55:8-9. Monday September 29th\, 2025 through Friday\, October 3rd 2025 6:00pm Nightly.
URL:http://friendshipbccs.com/event/true-spirit-baptist-church-2025-community-revival/
LOCATION:True Spirit Baptist Church\, 5120 Astrozon Blvd\, Colorado Springs\, CO\, 80916\, United States
ATTACH;FMTTYPE=image/png:http://friendshipbccs.com/wp-content/uploads/2025/09/Screenshot-2025-09-25-133737.png
END:VEVENT
BEGIN:VEVENT
DTSTART;TZID=UTC:20250927T100000
DTEND;TZID=UTC:20250927T140000
DTSTAMP:20260420T172823
CREATED:20250904T185508Z
LAST-MODIFIED:20250911T184457Z
UID:7302-1758967200-1758981600@friendshipbccs.com
SUMMARY:Fresh Start Baptist Church Mini Retreat
DESCRIPTION:Fresh Start Baptist Church Pastor John Harris – Mini Retreat Saturday\, September 27\, 2025 10:00am-2:00pm All ladies are invited. Theme: Embracing Unity. Lunch will be served afterwards. RSVP by September 15\, 2025 Mother Pauline Gibbons 719-963-1042.
URL:http://friendshipbccs.com/event/fresh-start-baptist-church-mini-retreat/
LOCATION:Fresh Start  Baptist Church\, 2105 Monterey Way\, Fountain\, CO\, 80817\, United States
ATTACH;FMTTYPE=image/png:http://friendshipbccs.com/wp-content/uploads/2025/09/Screenshot-2025-09-11-124211.png
END:VEVENT
BEGIN:VEVENT
DTSTART;TZID=UTC:20250911T180000
DTEND;TZID=UTC:20250911T190000
DTSTAMP:20260420T172823
CREATED:20250904T185104Z
LAST-MODIFIED:20250904T185814Z
UID:7300-1757613600-1757617200@friendshipbccs.com
SUMMARY:CHURCH CALL MEETING
DESCRIPTION:CHURCH CALL MEETING – THURSDAY\, SEPTEMBER 11\, 2025 6:00 pm. PLEASE ATTEND
URL:http://friendshipbccs.com/event/church-call-meeting/
LOCATION:Friendship Baptist Church\, 633 E. Dale Street\, Colorado Springs\, CO\, 80903\, United States
END:VEVENT
BEGIN:VEVENT
DTSTART;TZID=UTC:20250816T120000
DTEND;TZID=UTC:20250816T160000
DTSTAMP:20260420T172823
CREATED:20250730T125746Z
LAST-MODIFIED:20250730T190643Z
UID:6125-1755345600-1755360000@friendshipbccs.com
SUMMARY:Annual Cookout
DESCRIPTION:Saturday\, August 16\, 2025  12:00pm – 4:00pm  \nLocation: Friendship Baptist Church East Parking Lot
URL:http://friendshipbccs.com/event/annual-cookout/
LOCATION:Friendship Baptist Church\, 633 E. Dale Street\, Colorado Springs\, CO\, 80903\, United States
ATTACH;FMTTYPE=image/png:http://friendshipbccs.com/wp-content/uploads/2025/07/Screenshot-2025-07-30-125537.png
END:VEVENT
BEGIN:VEVENT
DTSTART;TZID=UTC:20250809T110000
DTEND;TZID=UTC:20250809T123000
DTSTAMP:20260420T172823
CREATED:20250730T130129Z
LAST-MODIFIED:20250730T190729Z
UID:7163-1754737200-1754742600@friendshipbccs.com
SUMMARY:Women's Fellowship Ministry
DESCRIPTION:All Women of Friendship\, Friends and acquaintances. The Women’s Fellowship Ministry will meet Saturday August 9\, 2025 at 11:00AM. Please join us for food\, fun and fellowship as we study God’s Word.
URL:http://friendshipbccs.com/event/womens-fellowship-ministry/
LOCATION:Friendship Baptist Church\, 633 E. Dale Street\, Colorado Springs\, CO\, 80903\, United States
ATTACH;FMTTYPE=image/png:http://friendshipbccs.com/wp-content/uploads/2025/07/Womens-Fellowship-Clipart-2025.png
END:VEVENT
BEGIN:VEVENT
DTSTART;TZID=UTC:20250612T180000
DTEND;TZID=UTC:20250612T193000
DTSTAMP:20260420T172823
CREATED:20250502T170556Z
LAST-MODIFIED:20250508T154347Z
UID:6005-1749751200-1749756600@friendshipbccs.com
SUMMARY:Church Business Meeting
DESCRIPTION:Church Biannual Business Meeting  \nThursday June 12\, 2025 6:00 p.m.  Please make plans to attend. Mark your calendar.
URL:http://friendshipbccs.com/event/church-business-meeting/
LOCATION:Friendship Baptist Church\, 633 E. Dale Street\, Colorado Springs\, CO\, 80903\, United States
ATTACH;FMTTYPE=image/png:http://friendshipbccs.com/wp-content/uploads/2025/05/Screenshot-2025-05-02-110500.png
ORGANIZER;CN="Raymond Jones":MAILTO:trustees@friendshipbccs.com
END:VEVENT
BEGIN:VEVENT
DTSTART;TZID=UTC:20250608T110000
DTEND;TZID=UTC:20250608T170000
DTSTAMP:20260420T172823
CREATED:20250523T160849Z
LAST-MODIFIED:20250523T194441Z
UID:6022-1749380400-1749402000@friendshipbccs.com
SUMMARY:Annual Youth Day
DESCRIPTION:Annual Youth Day Sunday\, June 8\, 2025.  Services at 11:00 A.M. and 3:00 PM. Guest Speaker Rev. Armogen Walker II.  The Theme “Conquering Your Giants with God on Your Side\, you are a Giant Slayer”.  The scripture reference is 1st Samuel 17:45-47
URL:http://friendshipbccs.com/event/annual-youth-day/
LOCATION:Friendship Baptist Church\, 633 E. Dale Street\, Colorado Springs\, CO\, 80903\, United States
ATTACH;FMTTYPE=image/png:http://friendshipbccs.com/wp-content/uploads/2025/05/Screenshot-2025-05-23-133321.png
END:VEVENT
BEGIN:VEVENT
DTSTART;TZID=UTC:20250510T110000
DTEND;TZID=UTC:20250510T160000
DTSTAMP:20260420T172823
CREATED:20250410T203629Z
LAST-MODIFIED:20250508T154240Z
UID:5904-1746874800-1746892800@friendshipbccs.com
SUMMARY:Mother's Day Tea
DESCRIPTION:Mother’s Day Tea on Saturday\, May 10\, 2025 11:00 A.M. in Fellowship Hall. \nEach Sheepfold will decorate a “Tea Table” and everyone will be requested to wear hats. Please reach out to your Sheepfold Leaders & Co-Leaders. We will be decorating the tables on Friday\, May 9\, 2025 10am-3pm.  You can invite family and friends to fill up your table.  Light refreshments will be served and tea bags will be provided. Any questions\, please contact Sister Lillian H. Favors-Clarke at 719-597-3487
URL:http://friendshipbccs.com/event/mothers-day-tea-2/
LOCATION:Friendship Baptist Church\, 633 E. Dale Street\, Colorado Springs\, CO\, 80903\, United States
ATTACH;FMTTYPE=image/png:http://friendshipbccs.com/wp-content/uploads/2025/04/Screenshot-2025-04-10-143347.png
END:VEVENT
BEGIN:VEVENT
DTSTART;TZID=UTC:20250427T110000
DTEND;TZID=UTC:20250427T170000
DTSTAMP:20260420T172823
CREATED:20250410T195335Z
LAST-MODIFIED:20250410T205213Z
UID:5889-1745751600-1745773200@friendshipbccs.com
SUMMARY:76th Annual Women's Day
DESCRIPTION:
URL:http://friendshipbccs.com/event/76th-annual-womens-day/
LOCATION:Friendship Baptist Church\, 633 E. Dale Street\, Colorado Springs\, CO\, 80903\, United States
ORGANIZER;CN="Church Secretary":MAILTO:Secretary@friendshipbccs.com
END:VEVENT
BEGIN:VEVENT
DTSTART;TZID=UTC:20250426T110000
DTEND;TZID=UTC:20250426T140000
DTSTAMP:20260420T172823
CREATED:20250410T202952Z
LAST-MODIFIED:20250410T203241Z
UID:5899-1745665200-1745676000@friendshipbccs.com
SUMMARY:Women’s Day Kick-Off Activity (Creating Spiritual Plate)
DESCRIPTION:It is time to get ready for our Annual Women’s Day.  This year’s theme is “Christian Women Wearing God’s Spiritual Wardrobe” Our Key Scripture is Proverbs 31:25. \nCome out on Saturday\, April 26th\, and join in with our Women’s Day kick-off activity. We will be creating a Spiritual Plate (craft project). If you are interested in attending\, we will begin at 11:00 a.m. in the Fellowship Hall. Refreshments will be available. \nPlease SIGN UP so that we will have enough materials for everyone.  If you have any questions\, please get in touch with a member of the program committee: Rene Foster\, Sharon Gilbert\, Wesla Armstead\, Debra Hardin or Anisa Cox.
URL:http://friendshipbccs.com/event/5899/
LOCATION:Friendship Baptist Church\, 633 E. Dale Street\, Colorado Springs\, CO\, 80903\, United States
ORGANIZER;CN="Church Secretary":MAILTO:Secretary@friendshipbccs.com
END:VEVENT
BEGIN:VEVENT
DTSTART;TZID=UTC:20250419T093000
DTEND;TZID=UTC:20250419T170000
DTSTAMP:20260420T172823
CREATED:20250410T201726Z
LAST-MODIFIED:20250410T202210Z
UID:5894-1745055000-1745082000@friendshipbccs.com
SUMMARY:The General Missionary State Convention of Colorado
DESCRIPTION:The General Missionary State Convention of Colorado will hold its quarterly meeting\, this Saturday\, April 19\, 2025 at Divine Spirit Baptist Church here in the Springs. Registration starts at 9:30 AM. Fee is $2.00. There are classes for all ages. Contact Sis Beverly for more information.
URL:http://friendshipbccs.com/event/the-general-missionary-state-convention-of-colorado/
LOCATION:Divine Spirit Baptist Church\, 2626 Verde Drive\, Colorado Springs\, CO\, 80910\, United States
ORGANIZER;CN="Church Secretary":MAILTO:Secretary@friendshipbccs.com
END:VEVENT
BEGIN:VEVENT
DTSTART;TZID=UTC:20250404T093000
DTEND;TZID=UTC:20250404T170000
DTSTAMP:20260420T172823
CREATED:20250312T205428Z
LAST-MODIFIED:20250312T205614Z
UID:5679-1743759000-1743786000@friendshipbccs.com
SUMMARY:World Day of Prayer Service (Donating Easter Baskets)
DESCRIPTION:The Senior Women’s Mission has been a member of CHURCH WOMEN UNITED for over 50 years. One of the projects of this organization is to provide Easter Baskets to children through the Department of Social Services. The Senior Women’s Mission will again be participating in this project.  If you would like to contribute a basket please contact any member of the Senior Women’s Mission. Baskets are needed by March 30\, 2025.  We will be donating the baskets at their WORLD DAY OF PRAYER Service on Friday\, April 4\, 2025 at 9:30am at GRACE LUTHERAN CHURCH at 1128 E. Boulder St & Hancock. Includes coffee\, finger food and program.
URL:http://friendshipbccs.com/event/world-day-of-prayer-service-donating-easter-baskets/
LOCATION:Grace Luthern Church\, 1128 E. Boulder St & Hancock\, Colorado Springs\, United States
ATTACH;FMTTYPE=image/png:http://friendshipbccs.com/wp-content/uploads/2025/03/Screenshot-2025-03-12-144555.png
END:VEVENT
BEGIN:VEVENT
DTSTART;TZID=UTC:20241212T180000
DTEND;TZID=UTC:20241212T180000
DTSTAMP:20260420T172823
CREATED:20240918T203049Z
LAST-MODIFIED:20240918T203049Z
UID:5295-1734026400-1734026400@friendshipbccs.com
SUMMARY:Church Business Meeting (Members Only)
DESCRIPTION:
URL:http://friendshipbccs.com/event/church-business-meeting-members-only-2/
LOCATION:Friendship Baptist Church\, 633 E. Dale Street\, Colorado Springs\, CO\, 80903\, United States
ATTACH;FMTTYPE=image/jpeg:http://friendshipbccs.com/wp-content/uploads/2024/09/Business-Mtg.jpg
ORGANIZER;CN="Raymond Jones":MAILTO:trustees@friendshipbccs.com
END:VEVENT
BEGIN:VEVENT
DTSTART;TZID=UTC:20241123T100000
DTEND;TZID=UTC:20241123T140000
DTSTAMP:20260420T172823
CREATED:20241009T195943Z
LAST-MODIFIED:20241009T200109Z
UID:5325-1732356000-1732370400@friendshipbccs.com
SUMMARY:Thanksgiving Baskets
DESCRIPTION:The cutoff date for Donations and adding names to the list is November 10\, 2024.   \nBaskets will be given out on November 23\, 2024 at Friendship Baptist Church.   \nAny questions you can contact Mission President Sis Kathy Wilson \nSign Up Sheets now available or Call 719-473-8186 to have your name added to the list
URL:http://friendshipbccs.com/event/thanksgiving-baskets/
LOCATION:Friendship Baptist Church\, 633 E. Dale Street\, Colorado Springs\, CO\, 80903\, United States
ATTACH;FMTTYPE=image/jpeg:http://friendshipbccs.com/wp-content/uploads/2024/10/thanksgiving-basket3.jpg
END:VEVENT
BEGIN:VEVENT
DTSTART;TZID=UTC:20241114T180000
DTEND;TZID=UTC:20241114T180000
DTSTAMP:20260420T172823
CREATED:20240918T202650Z
LAST-MODIFIED:20240918T203205Z
UID:5292-1731607200-1731607200@friendshipbccs.com
SUMMARY:Budget Meeting (Members Only)
DESCRIPTION:Budget Meeting will be held on November 14\, 2024 @ 6 PM
URL:http://friendshipbccs.com/event/budget-meeting-members-only/
LOCATION:Friendship Baptist Church\, 633 E. Dale Street\, Colorado Springs\, CO\, 80903\, United States
ATTACH;FMTTYPE=image/png:http://friendshipbccs.com/wp-content/uploads/2024/09/Budget-Meeting.png
ORGANIZER;CN="Raymond Jones":MAILTO:trustees@friendshipbccs.com
END:VEVENT
BEGIN:VEVENT
DTSTART;TZID=UTC:20241026T160000
DTEND;TZID=UTC:20241026T200000
DTSTAMP:20260420T172823
CREATED:20241009T195412Z
LAST-MODIFIED:20241009T195448Z
UID:5319-1729958400-1729972800@friendshipbccs.com
SUMMARY:Harvest Fest
DESCRIPTION:We Need Volunteers: \n~Decorate Your Trunk \n~We Need Candy \n~Donate Candy/Cakes for the Cake Walk \n~Face Painting and more \nSign-up sheets are now available
URL:http://friendshipbccs.com/event/harvest-fest/
LOCATION:Friendship Baptist Church\, 633 E. Dale Street\, Colorado Springs\, CO\, 80903\, United States
ATTACH;FMTTYPE=image/jpeg:http://friendshipbccs.com/wp-content/uploads/2024/10/CandyCornandAutumn-Image.jpg
END:VEVENT
BEGIN:VEVENT
DTSTART;TZID=UTC:20241020T110000
DTEND;TZID=UTC:20241020T160000
DTSTAMP:20260420T172823
CREATED:20240814T184851Z
LAST-MODIFIED:20241009T200707Z
UID:4877-1729422000-1729440000@friendshipbccs.com
SUMMARY:79th Church Anniversary
DESCRIPTION:Guest Speaker: Reverend Joey R. Stephens @ 11 AM \nFriendship Baptist Church \n 
URL:http://friendshipbccs.com/event/79th-church-anniversary/
LOCATION:Friendship Baptist Church\, 633 E. Dale Street\, Colorado Springs\, CO\, 80903\, United States
ATTACH;FMTTYPE=image/png:http://friendshipbccs.com/wp-content/uploads/2024/08/Church-Anniversary.png
END:VEVENT
BEGIN:VEVENT
DTSTART;TZID=UTC:20241019T170000
DTEND;TZID=UTC:20241019T190000
DTSTAMP:20260420T172823
CREATED:20240904T165523Z
LAST-MODIFIED:20241009T200428Z
UID:5254-1729357200-1729364400@friendshipbccs.com
SUMMARY:79th Church Anniversary Musical
DESCRIPTION:Guest Speaker: Reverend Clarence Davis \n5 PM at Friendship Baptist Church
URL:http://friendshipbccs.com/event/79th-church-anniversary-musical/
LOCATION:Friendship Baptist Church\, 633 E. Dale Street\, Colorado Springs\, CO\, 80903\, United States
ATTACH;FMTTYPE=image/jpeg:http://friendshipbccs.com/wp-content/uploads/2024/09/Untitled-design-1-e1725553386382.jpg
END:VEVENT
BEGIN:VEVENT
DTSTART;TZID=UTC:20241019T100000
DTEND;TZID=UTC:20241019T170000
DTSTAMP:20260420T172823
CREATED:20241009T201213Z
LAST-MODIFIED:20241009T201726Z
UID:5340-1729332000-1729357200@friendshipbccs.com
SUMMARY:Trolley Tour - Garden of the Gods
DESCRIPTION:Garden of the Gods Trolley Tour on 10/19/2024 @ 10:00 AM \nCost: $25 per person (must pay in advance to reserve seat) \nGeo-Trekker Theatre Adults/$6 & Kids 5-12 /$4 (Purchase at Ticket Kiosks) \nPlease sign up and have monies in by October 6th\, 2024 to Sister Katina Alexander or Rachelle Jones
URL:http://friendshipbccs.com/event/5340/
LOCATION:Katina Alexander or Rachelle Jones
ATTACH;FMTTYPE=image/png:http://friendshipbccs.com/wp-content/uploads/2024/10/Garden-of-the-Gods-1.png
END:VEVENT
BEGIN:VEVENT
DTSTART;TZID=UTC:20241005T110000
DTEND;TZID=UTC:20241005T140000
DTSTAMP:20260420T172823
CREATED:20240828T190947Z
LAST-MODIFIED:20240828T193345Z
UID:5217-1728126000-1728136800@friendshipbccs.com
SUMMARY:WOMEN'S AWARENESS SEMINAR
DESCRIPTION:
URL:http://friendshipbccs.com/event/womens-awareness-seminar/
LOCATION:Friendship Baptist Church\, 633 E. Dale Street\, Colorado Springs\, CO\, 80903\, United States
ATTACH;FMTTYPE=image/png:http://friendshipbccs.com/wp-content/uploads/2024/08/Untitled-design-5.png
END:VEVENT
BEGIN:VEVENT
DTSTART;TZID=UTC:20240810T120000
DTEND;TZID=UTC:20240810T160000
DTSTAMP:20260420T172823
CREATED:20240405T174201Z
LAST-MODIFIED:20240405T174201Z
UID:4199-1723291200-1723305600@friendshipbccs.com
SUMMARY:Church Cookout
DESCRIPTION:Date: August 10th\, 2024\nTime: 12:00-4:00 PM\nWhere: Fountain Creek Regional Park under the large pavilion #1\, 2010 Duckwood in Fountain\, CO 80817\nSign Up Sheets Available for the T-Shirts – deadline June 30th\, 2024
URL:http://friendshipbccs.com/event/church-cookout/
LOCATION:Fountain Creek Regional Park under the large pavilion #1\, 2010 Duckwood in Fountain\, CO 80817\, 2010 Duckwood\, Foutain\, CO\, 80817
ORGANIZER;CN="Raymond Jones":MAILTO:trustees@friendshipbccs.com
END:VEVENT
END:VCALENDAR