BEGIN:VCALENDAR
VERSION:2.0
PRODID:-//Friendship Baptist Church - ECPv6.11.2//NONSGML v1.0//EN
CALSCALE:GREGORIAN
METHOD:PUBLISH
X-WR-CALNAME:Friendship Baptist Church
X-ORIGINAL-URL:http://friendshipbccs.com
X-WR-CALDESC:Events for Friendship Baptist Church
REFRESH-INTERVAL;VALUE=DURATION:PT1H
X-Robots-Tag:noindex
X-PUBLISHED-TTL:PT1H
BEGIN:VTIMEZONE
TZID:UTC
BEGIN:STANDARD
TZOFFSETFROM:+0000
TZOFFSETTO:+0000
TZNAME:UTC
DTSTART:20220101T000000
END:STANDARD
END:VTIMEZONE
BEGIN:VEVENT
DTSTART;TZID=UTC:20241019T170000
DTEND;TZID=UTC:20241019T190000
DTSTAMP:20260421T040839
CREATED:20240904T165523Z
LAST-MODIFIED:20241009T200428Z
UID:5254-1729357200-1729364400@friendshipbccs.com
SUMMARY:79th Church Anniversary Musical
DESCRIPTION:Guest Speaker: Reverend Clarence Davis \n5 PM at Friendship Baptist Church
URL:http://friendshipbccs.com/event/79th-church-anniversary-musical/
LOCATION:Friendship Baptist Church\, 633 E. Dale Street\, Colorado Springs\, CO\, 80903\, United States
ATTACH;FMTTYPE=image/jpeg:http://friendshipbccs.com/wp-content/uploads/2024/09/Untitled-design-1-e1725553386382.jpg
END:VEVENT
BEGIN:VEVENT
DTSTART;TZID=UTC:20241019T100000
DTEND;TZID=UTC:20241019T170000
DTSTAMP:20260421T040839
CREATED:20241009T201213Z
LAST-MODIFIED:20241009T201726Z
UID:5340-1729332000-1729357200@friendshipbccs.com
SUMMARY:Trolley Tour - Garden of the Gods
DESCRIPTION:Garden of the Gods Trolley Tour on 10/19/2024 @ 10:00 AM \nCost: $25 per person (must pay in advance to reserve seat) \nGeo-Trekker Theatre Adults/$6 & Kids 5-12 /$4 (Purchase at Ticket Kiosks) \nPlease sign up and have monies in by October 6th\, 2024 to Sister Katina Alexander or Rachelle Jones
URL:http://friendshipbccs.com/event/5340/
LOCATION:Katina Alexander or Rachelle Jones
ATTACH;FMTTYPE=image/png:http://friendshipbccs.com/wp-content/uploads/2024/10/Garden-of-the-Gods-1.png
END:VEVENT
BEGIN:VEVENT
DTSTART;TZID=UTC:20241005T110000
DTEND;TZID=UTC:20241005T140000
DTSTAMP:20260421T040839
CREATED:20240828T190947Z
LAST-MODIFIED:20240828T193345Z
UID:5217-1728126000-1728136800@friendshipbccs.com
SUMMARY:WOMEN'S AWARENESS SEMINAR
DESCRIPTION:
URL:http://friendshipbccs.com/event/womens-awareness-seminar/
LOCATION:Friendship Baptist Church\, 633 E. Dale Street\, Colorado Springs\, CO\, 80903\, United States
ATTACH;FMTTYPE=image/png:http://friendshipbccs.com/wp-content/uploads/2024/08/Untitled-design-5.png
END:VEVENT
BEGIN:VEVENT
DTSTART;TZID=UTC:20240810T120000
DTEND;TZID=UTC:20240810T160000
DTSTAMP:20260421T040839
CREATED:20240405T174201Z
LAST-MODIFIED:20240405T174201Z
UID:4199-1723291200-1723305600@friendshipbccs.com
SUMMARY:Church Cookout
DESCRIPTION:Date: August 10th\, 2024\nTime: 12:00-4:00 PM\nWhere: Fountain Creek Regional Park under the large pavilion #1\, 2010 Duckwood in Fountain\, CO 80817\nSign Up Sheets Available for the T-Shirts – deadline June 30th\, 2024
URL:http://friendshipbccs.com/event/church-cookout/
LOCATION:Fountain Creek Regional Park under the large pavilion #1\, 2010 Duckwood in Fountain\, CO 80817\, 2010 Duckwood\, Foutain\, CO\, 80817
ORGANIZER;CN="Raymond Jones":MAILTO:trustees@friendshipbccs.com
END:VEVENT
BEGIN:VEVENT
DTSTART;TZID=UTC:20240617T180000
DTEND;TZID=UTC:20240621T200000
DTSTAMP:20260421T040839
CREATED:20240503T170323Z
LAST-MODIFIED:20240503T170529Z
UID:4442-1718647200-1719000000@friendshipbccs.com
SUMMARY:Vacation Bible School
DESCRIPTION:  \nFriendship Baptist Church \n633 E. Dale Street \nColorado Springs\, Colorado 80903 \n719-473-8186 \nJune 17th-21st\, 2024 \n6:00-8:00 PM \nALL ARE WELCOME!!
URL:http://friendshipbccs.com/event/vacation-bible-school/
LOCATION:Friendship Baptist Church\, 633 E. Dale Street\, Colorado Springs\, CO\, 80903\, United States
ATTACH;FMTTYPE=image/png:http://friendshipbccs.com/wp-content/uploads/2024/05/vacation.png
END:VEVENT
BEGIN:VEVENT
DTSTART;TZID=UTC:20240511T110000
DTEND;TZID=UTC:20240511T130000
DTSTAMP:20260421T040839
CREATED:20240503T165941Z
LAST-MODIFIED:20240503T165941Z
UID:4439-1715425200-1715432400@friendshipbccs.com
SUMMARY:Mother's Day Tea
DESCRIPTION:May 11th\, 2024 (Saturday) \n11:00 AM – 1:00 PM \nFBC – Fellowship Hall \nSpeakers: Deaconess Frankie Joseph \nTheme: Purse-a-verence\, Love\, Life & the Lord \n  \n1st Timothy 4:11-16 (NIV) \n  \nRequest: Please bring a friend\, a tea-cup\, and  \na photo of yourself from 20 years ago  \n(we will play a game to guess who you are).
URL:http://friendshipbccs.com/event/mothers-day-tea/
LOCATION:Friendship Baptist Church\, 633 E. Dale Street\, Colorado Springs\, CO\, 80903\, United States
ATTACH;FMTTYPE=image/png:http://friendshipbccs.com/wp-content/uploads/2024/05/Screenshot-2024-05-02-142502.png
END:VEVENT
BEGIN:VEVENT
DTSTART;TZID=UTC:20240421T110000
DTEND;TZID=UTC:20240421T170000
DTSTAMP:20260421T040839
CREATED:20240405T170145Z
LAST-MODIFIED:20240405T170145Z
UID:4187-1713697200-1713718800@friendshipbccs.com
SUMMARY:Women's Day - "Christian Women Wrapped in God's Love"
DESCRIPTION:75th Annual Women’s Day \nDate: Sunday April 21st\, 2024 \nTime: 11:00 AM & 3:00 PM \nLocation: Friendship Baptist Church
URL:http://friendshipbccs.com/event/womens-day-christian-women-wrapped-in-gods-love/
LOCATION:Friendship Baptist Church\, 633 E. Dale Street\, Colorado Springs\, CO\, 80903\, United States
END:VEVENT
BEGIN:VEVENT
DTSTART;TZID=UTC:20240420T130000
DTEND;TZID=UTC:20240420T150000
DTSTAMP:20260421T040839
CREATED:20240405T170408Z
LAST-MODIFIED:20240405T170408Z
UID:4194-1713618000-1713625200@friendshipbccs.com
SUMMARY:Women's Day - "Paint and Pray"
DESCRIPTION:Date: Saturday\, April 20th\, 2024 \nTime: 1:00 PM – 3:00 PM \nLocation: Friendship Baptist Church\nSign Up Sheets available for Transportation
URL:http://friendshipbccs.com/event/womens-day-paint-and-pray/
LOCATION:Friendship Baptist Church\, 633 E. Dale Street\, Colorado Springs\, CO\, 80903\, United States
END:VEVENT
BEGIN:VEVENT
DTSTART;TZID=UTC:20220609T180000
DTEND;TZID=UTC:20220609T190000
DTSTAMP:20260421T040839
CREATED:20220521T233347Z
LAST-MODIFIED:20220521T233347Z
UID:61-1654797600-1654801200@friendshipbccs.com
SUMMARY:Church Business Meeting - Members Only
DESCRIPTION:
URL:http://friendshipbccs.com/event/church-business-meeting-members-only/
LOCATION:CO
END:VEVENT
END:VCALENDAR