BEGIN:VCALENDAR
VERSION:2.0
PRODID:-//Friendship Baptist Church - ECPv6.11.2//NONSGML v1.0//EN
CALSCALE:GREGORIAN
METHOD:PUBLISH
X-ORIGINAL-URL:http://friendshipbccs.com
X-WR-CALDESC:Events for Friendship Baptist Church
REFRESH-INTERVAL;VALUE=DURATION:PT1H
X-Robots-Tag:noindex
X-PUBLISHED-TTL:PT1H
BEGIN:VTIMEZONE
TZID:UTC
BEGIN:STANDARD
TZOFFSETFROM:+0000
TZOFFSETTO:+0000
TZNAME:UTC
DTSTART:20260101T000000
END:STANDARD
END:VTIMEZONE
BEGIN:VTIMEZONE
TZID:America/Denver
BEGIN:DAYLIGHT
TZOFFSETFROM:-0700
TZOFFSETTO:-0600
TZNAME:MDT
DTSTART:20260308T090000
END:DAYLIGHT
BEGIN:STANDARD
TZOFFSETFROM:-0600
TZOFFSETTO:-0700
TZNAME:MST
DTSTART:20261101T080000
END:STANDARD
END:VTIMEZONE
BEGIN:VEVENT
DTSTART;TZID=UTC:20260314T100000
DTEND;TZID=UTC:20260314T110000
DTSTAMP:20260420T174323
CREATED:20260220T205657Z
LAST-MODIFIED:20260220T205657Z
UID:7947-1773482400-1773486000@friendshipbccs.com
SUMMARY:Important FBC Business Meeting
DESCRIPTION:Important FBC Business Meeting Saturday\, March 14\, 2026 10:00am.  Doors close at 10:15am for Voting. FBC members in good standing 18 and older are invited to VOTE on Reverend Dana Ramsey as Interim Pastor.
URL:http://friendshipbccs.com/event/important-fbc-business-meeting/
LOCATION:Friendship Baptist Church\, 633 E. Dale Street\, Colorado Springs\, CO\, 80903\, United States
ATTACH;FMTTYPE=image/png:http://friendshipbccs.com/wp-content/uploads/2026/02/Screenshot-2026-02-20-135546.png
END:VEVENT
BEGIN:VEVENT
DTSTART;TZID=UTC:20260315T153000
DTEND;TZID=UTC:20260315T173000
DTSTAMP:20260420T174323
CREATED:20260313T195126Z
LAST-MODIFIED:20260313T195126Z
UID:8021-1773588600-1773595800@friendshipbccs.com
SUMMARY:True Spirit Baptist Church Deacons & Brotherhood Annual Day
DESCRIPTION:Sunday\, March 15\, 2026 3:30pm  True Spirit Baptist Church Deacons & Brotherhood Annual Day. Theme “Chosen To Serve” Acts 6:1-6 guest speaker Pastor Terrance Toney from Trinity Baptist Church. \n 
URL:http://friendshipbccs.com/event/true-spirit-baptist-church-deacons-brotherhood-annual-day/
LOCATION:True Spirit Baptist Church\, 5120 Astrozon Blvd\, Colorado Springs\, CO\, 80916\, United States
ATTACH;FMTTYPE=image/png:http://friendshipbccs.com/wp-content/uploads/2026/02/True-Spirit-Baptist-Church.png
END:VEVENT
BEGIN:VEVENT
DTSTART;TZID=UTC:20260328T100000
DTEND;TZID=UTC:20260328T130000
DTSTAMP:20260420T174323
CREATED:20260313T195257Z
LAST-MODIFIED:20260326T200038Z
UID:8023-1774692000-1774702800@friendshipbccs.com
SUMMARY:Pikes Peak Southern District GMBC Meeting
DESCRIPTION:Pikes Peak Southern District GMBC Meeting  Saturday\, March 28\, 2026 10:00am at Divine Spirit Baptist Church – Restructuring session of district and election of district officers.
URL:http://friendshipbccs.com/event/pikes-peak-southern-district-gmbc-meeting/
LOCATION:Divine Spirit Baptist Church\, 2626 Verde Drive\, Colorado Springs\, CO\, 80910\, United States
ATTACH;FMTTYPE=image/png:http://friendshipbccs.com/wp-content/uploads/2026/03/GMBC-Logo-Large.png
END:VEVENT
BEGIN:VEVENT
DTSTART;TZID=America/Denver:20260328T110000
DTEND;TZID=America/Denver:20260328T130000
DTSTAMP:20260420T174323
CREATED:20260306T184420Z
LAST-MODIFIED:20260306T184933Z
UID:7985-1774695600-1774702800@friendshipbccs.com
SUMMARY:Prussman Chapel Annual Women's Tea
DESCRIPTION:Prussman Chapel Annual Women’s Tea Invitation Saturday\, March 28\, 2026 11:00 AM Elkhorn Conference Center 1725 Woodfill Road Fort Carson\, CO.  A buffet-style lunch will be served.  Theme: “The Emotionally Healthy Woman – Quit Blaming” Scripture: Romans 12:18. \nRSVP Required by March 17th cjfoster.2911@gmail.com  or prussmanchapel@gmail.com  Include names of attending\, church name\, selected bible color. \nAsking one lady to speak for one minute or less on meaning of that color. \nDon’t forget your hats for the “Best Hat” Contest and plenty of fellowship\, fun and inspiration! \n 
URL:http://friendshipbccs.com/event/prussman-chapel-annual-womens-tea/
LOCATION:Prussman Chapel\, 1725 Woodfill Road\, Fort Carson\, CO\, 80913\, United States
ATTACH;FMTTYPE=image/png:http://friendshipbccs.com/wp-content/uploads/2026/03/Screenshot-2026-03-06-114049.png
ORGANIZER;CN="Prussman Chapel":MAILTO:prussmanchapel@gmail.com
END:VEVENT
BEGIN:VEVENT
DTSTART;TZID=UTC:20260328T120000
DTEND;TZID=UTC:20260328T140000
DTSTAMP:20260420T174323
CREATED:20260319T174355Z
LAST-MODIFIED:20260319T174404Z
UID:8055-1774699200-1774706400@friendshipbccs.com
SUMMARY:Payne Chapel Seminar "Building Brain-Healthy Habits"
DESCRIPTION:Saturday\, March 28\, 2026 12:00pm – 2:00pm Payne Chapel Seminar “Building Brain-Healthy Habits”.  Helpful information on maintaining brain health & supporting those affected by memory loss. Chefs for Seniors hosting a food demonstration. Reserve your seat 719-313-7114.
URL:http://friendshipbccs.com/event/payne-chapel-seminar-building-brain-healthy-habits/
LOCATION:Payne Chapel\, 3625 Marion Drive\, Colorado Springs\, CO\, 80909\, United States
ATTACH;FMTTYPE=image/png:http://friendshipbccs.com/wp-content/uploads/2026/03/Payne-Chapel-Logo.png
END:VEVENT
BEGIN:VEVENT
DTSTART;TZID=UTC:20260411T100000
DTEND;TZID=UTC:20260411T130000
DTSTAMP:20260420T174323
CREATED:20260313T195855Z
LAST-MODIFIED:20260313T195928Z
UID:8028-1775901600-1775912400@friendshipbccs.com
SUMMARY:Divine Spirit Baptist Church Spring Women's Gathering
DESCRIPTION:Divine Spirit Baptist Church Spring Women’s Gathering Saturday\, April 11\, 2026 10:00am-1:00pm Theme: Walking Boldly in Faith Joshua 1:9. Four Speakers. All ladies are welcome\, please come and bring a friend. Special time for prayer\, fellowship and encouragement
URL:http://friendshipbccs.com/event/divine-spirit-baptist-church-spring-womens-gathering/
LOCATION:Divine Spirit Baptist Church\, 2626 Verde Drive\, Colorado Springs\, CO\, 80910\, United States
ATTACH;FMTTYPE=image/png:http://friendshipbccs.com/wp-content/uploads/2026/03/Screenshot-2026-03-11-132030.png
END:VEVENT
BEGIN:VEVENT
DTSTART;TZID=UTC:20260418T100000
DTEND;TZID=UTC:20260418T170000
DTSTAMP:20260420T174323
CREATED:20260326T192641Z
LAST-MODIFIED:20260326T195919Z
UID:8084-1776506400-1776531600@friendshipbccs.com
SUMMARY:GMBC Quarterly Meeting
DESCRIPTION:GMBC Quarterly Meeting Saturday\, April 18\, 2026 10:00 am at Solid Rock Missionary Baptist Church – Denver. Sign-Up sheet on bulletin boards. \n 
URL:http://friendshipbccs.com/event/gmbc-quarterly-meeting/
LOCATION:Solid Rock Missionary Baptist Church – Denver\, 3520 E. 28th Ave\, Denver\, CO\, 80205\, United States
ATTACH;FMTTYPE=image/png:http://friendshipbccs.com/wp-content/uploads/2026/03/GMBC-Logo-Large.png
END:VEVENT
BEGIN:VEVENT
DTSTART;TZID=UTC:20260418T110000
DTEND;TZID=UTC:20260418T130000
DTSTAMP:20260420T174323
CREATED:20260319T175624Z
LAST-MODIFIED:20260326T191638Z
UID:8060-1776510000-1776517200@friendshipbccs.com
SUMMARY:Black Women's History Month
DESCRIPTION:Black Women’s History Month – Ladies of Greatness: Celebrating Black Women of Impact Saturday\, April 18\, 2026 11:00am – 1:00pm $10 Donation Suggested – Hillside Community Center 925 S. Institute Street 80903
URL:http://friendshipbccs.com/event/8060/
LOCATION:CO
ATTACH;FMTTYPE=image/png:http://friendshipbccs.com/wp-content/uploads/2026/03/Screenshot-2026-03-19-115457.png
END:VEVENT
BEGIN:VEVENT
DTSTART;TZID=UTC:20260426T153000
DTEND;TZID=UTC:20260426T170000
DTSTAMP:20260420T174323
CREATED:20260409T194918Z
LAST-MODIFIED:20260409T194918Z
UID:8137-1777217400-1777222800@friendshipbccs.com
SUMMARY:True Spirit Baptist Church "Family & Friends Annual Day"
DESCRIPTION:True Spirit Baptist Church invites all in celebrating “Family & Friends Annual Day” Sunday\, April 26th 3:30pm. Theme: “What’s Love got To Do With It!” (Proverbs 17:17) Special Guest Speaker Pastor Michael D. Henry\, II of Shiloh Baptist Church in Denver.
URL:http://friendshipbccs.com/event/true-spirit-baptist-church-family-friends-annual-day/
LOCATION:True Spirit Baptist Church\, 5120 Astrozon Blvd\, Colorado Springs\, CO\, 80916\, United States
ATTACH;FMTTYPE=image/png:http://friendshipbccs.com/wp-content/uploads/2026/04/True-Spirit-Baptist-Church-Logo.png
END:VEVENT
BEGIN:VEVENT
DTSTART;TZID=UTC:20260501T103000
DTEND;TZID=UTC:20260501T130000
DTSTAMP:20260420T174323
CREATED:20260409T195255Z
LAST-MODIFIED:20260409T195306Z
UID:8140-1777631400-1777640400@friendshipbccs.com
SUMMARY:Church Women United May Friendship Day
DESCRIPTION:Church Women United are celebrating May Friendship Day – Shelter Me\, See\, Hear\, Respect\, Protect Psalm24:1 (NIV) Theme: A Place Called Home Isaiah 32:18 (NIV) Friday\, May 1st 10:30am at Friendship Baptist Church.
URL:http://friendshipbccs.com/event/church-women-united-may-friendship-day/
LOCATION:Friendship Baptist Church\, 633 E. Dale Street\, Colorado Springs\, CO\, 80903\, United States
ATTACH;FMTTYPE=image/jpeg:http://friendshipbccs.com/wp-content/uploads/2026/04/Church-Women-United-Logo.jpg
END:VEVENT
END:VCALENDAR