BEGIN:VCALENDAR
VERSION:2.0
PRODID:-//Friendship Baptist Church - ECPv6.11.2//NONSGML v1.0//EN
CALSCALE:GREGORIAN
METHOD:PUBLISH
X-WR-CALNAME:Friendship Baptist Church
X-ORIGINAL-URL:http://friendshipbccs.com
X-WR-CALDESC:Events for Friendship Baptist Church
REFRESH-INTERVAL;VALUE=DURATION:PT1H
X-Robots-Tag:noindex
X-PUBLISHED-TTL:PT1H
BEGIN:VTIMEZONE
TZID:UTC
BEGIN:STANDARD
TZOFFSETFROM:+0000
TZOFFSETTO:+0000
TZNAME:UTC
DTSTART:20260101T000000
END:STANDARD
END:VTIMEZONE
BEGIN:VEVENT
DTSTART;TZID=UTC:20260305T080000
DTEND;TZID=UTC:20260305T170000
DTSTAMP:20260420T154553
CREATED:20260219T211804Z
LAST-MODIFIED:20260219T211856Z
UID:7929-1772697600-1772730000@friendshipbccs.com
SUMMARY:Senior Mission Easter Basket Donations
DESCRIPTION:ATTENTION LADIES!  The Senior Women’s Mission has been a member of CHURCH WOMEN UNITED for over 50 years. One of the projects of this organization is to provide Easter Baskets to children through the Department of Social Services. The Senior Women’s Mission will again be participating in this project. \nIf you would like to contribute an Easter Basket\, please contact any member of the Senior Women’s Mission or bring to FBC.   Baskets are needed by Thursday\, March 5\, 2026.  \nWe will be donating the baskets at their WORLD DAY OF PRAYER 2026 Service “I Will Give You Rest: Come” Matthew 11:28-30. Friday\, March 6\, 2026 at 9:30am at First Lutheran -Peel House 1515 N. Cascade Avenue.
URL:http://friendshipbccs.com/event/senior-mission-easter-basked-donations/
LOCATION:Friendship Baptist Church\, 633 E. Dale Street\, Colorado Springs\, CO\, 80903\, United States
ATTACH;FMTTYPE=image/png:http://friendshipbccs.com/wp-content/uploads/2026/02/Screenshot-2026-02-19-141528.png
END:VEVENT
END:VCALENDAR